BEGIN:VCALENDAR
VERSION:2.0
PRODID:-//Lake Region Public Library - ECPv6.15.20//NONSGML v1.0//EN
CALSCALE:GREGORIAN
METHOD:PUBLISH
X-WR-CALNAME:Lake Region Public Library
X-ORIGINAL-URL:https://devilslakendlibrary.com
X-WR-CALDESC:Events for Lake Region Public Library
REFRESH-INTERVAL;VALUE=DURATION:PT1H
X-Robots-Tag:noindex
X-PUBLISHED-TTL:PT1H
BEGIN:VTIMEZONE
TZID:America/North_Dakota/Center
BEGIN:DAYLIGHT
TZOFFSETFROM:-0600
TZOFFSETTO:-0500
TZNAME:CDT
DTSTART:20210314T080000
END:DAYLIGHT
BEGIN:STANDARD
TZOFFSETFROM:-0500
TZOFFSETTO:-0600
TZNAME:CST
DTSTART:20211107T070000
END:STANDARD
BEGIN:DAYLIGHT
TZOFFSETFROM:-0600
TZOFFSETTO:-0500
TZNAME:CDT
DTSTART:20220313T080000
END:DAYLIGHT
BEGIN:STANDARD
TZOFFSETFROM:-0500
TZOFFSETTO:-0600
TZNAME:CST
DTSTART:20221106T070000
END:STANDARD
BEGIN:DAYLIGHT
TZOFFSETFROM:-0600
TZOFFSETTO:-0500
TZNAME:CDT
DTSTART:20230312T080000
END:DAYLIGHT
BEGIN:STANDARD
TZOFFSETFROM:-0500
TZOFFSETTO:-0600
TZNAME:CST
DTSTART:20231105T070000
END:STANDARD
END:VTIMEZONE
BEGIN:VEVENT
DTSTART;TZID=America/North_Dakota/Center:20220725T143000
DTEND;TZID=America/North_Dakota/Center:20220725T163000
DTSTAMP:20260423T033615
CREATED:20220718T214146Z
LAST-MODIFIED:20220718T214146Z
UID:7868-1658759400-1658766600@devilslakendlibrary.com
SUMMARY:Monday Movie Matinee: National Treasure
DESCRIPTION:Join the Lake Region Public Library on Thursday\, July 28 for another Crafternoon project! This time\, we'll be making DIY sugar scrubs to keep skin soft and exfoliated during the hot summer months. We will provide all the ingredients\, but if you have an essential oil you're partial to\, please feel free to bring that … Continue reading Crafternoon: DIY Sugar Scrub
URL:https://devilslakendlibrary.com/event/monday-movie-matinee-national-treasure/
LOCATION:Lake Region Public Library\, 423 7th Street Northeast\, Devils Lake\, ND\, 58301\, United States
CATEGORIES:Adult Programming,Children Programming,Senior Programming,Teen Programming
ATTACH;FMTTYPE=image/png:https://devilslakendlibrary.com/wp-content/uploads/2022/07/Monday-Movie-Matinee-1.png
END:VEVENT
BEGIN:VEVENT
DTSTART;TZID=America/North_Dakota/Center:20220706T173000
DTEND;TZID=America/North_Dakota/Center:20220706T183000
DTSTAMP:20260423T033615
CREATED:20220606T163436Z
LAST-MODIFIED:20220606T163436Z
UID:7653-1657128600-1657132200@devilslakendlibrary.com
SUMMARY:LRPL Book Club: Breakfast With Buddha
DESCRIPTION:Join the Lake Region Public Library on Thursday\, July 28 for another Crafternoon project! This time\, we'll be making DIY sugar scrubs to keep skin soft and exfoliated during the hot summer months. We will provide all the ingredients\, but if you have an essential oil you're partial to\, please feel free to bring that … Continue reading Crafternoon: DIY Sugar Scrub
URL:https://devilslakendlibrary.com/event/lrpl-book-club-breakfast-with-buddha/
LOCATION:Lake Region Public Library\, 423 7th Street Northeast\, Devils Lake\, ND\, 58301\, United States
CATEGORIES:Adult Programming,Senior Programming
ATTACH;FMTTYPE=image/jpeg:https://devilslakendlibrary.com/wp-content/uploads/2022/06/618q9RIKqKL.jpeg
END:VEVENT
BEGIN:VEVENT
DTSTART;TZID=America/North_Dakota/Center:20220627T143000
DTEND;TZID=America/North_Dakota/Center:20220627T160000
DTSTAMP:20260423T033615
CREATED:20220620T223016Z
LAST-MODIFIED:20220620T223016Z
UID:7747-1656340200-1656345600@devilslakendlibrary.com
SUMMARY:Monday Movie Matinee: Shrek
DESCRIPTION:Join the Lake Region Public Library on Thursday\, July 28 for another Crafternoon project! This time\, we'll be making DIY sugar scrubs to keep skin soft and exfoliated during the hot summer months. We will provide all the ingredients\, but if you have an essential oil you're partial to\, please feel free to bring that … Continue reading Crafternoon: DIY Sugar Scrub
URL:https://devilslakendlibrary.com/event/monday-movie-matinee-shrek/
LOCATION:Lake Region Public Library\, 423 7th Street Northeast\, Devils Lake\, ND\, 58301\, United States
CATEGORIES:Adult Programming,Children Programming,Senior Programming,Teen Programming
ATTACH;FMTTYPE=image/png:https://devilslakendlibrary.com/wp-content/uploads/2022/06/Shrek.png
END:VEVENT
BEGIN:VEVENT
DTSTART;TZID=America/North_Dakota/Center:20220620T143000
DTEND;TZID=America/North_Dakota/Center:20220620T160000
DTSTAMP:20260423T033615
CREATED:20220613T223140Z
LAST-MODIFIED:20220613T223140Z
UID:7699-1655735400-1655740800@devilslakendlibrary.com
SUMMARY:Monday Movie Matinee: The Little Mermaid
DESCRIPTION:Join the Lake Region Public Library on Thursday\, July 28 for another Crafternoon project! This time\, we'll be making DIY sugar scrubs to keep skin soft and exfoliated during the hot summer months. We will provide all the ingredients\, but if you have an essential oil you're partial to\, please feel free to bring that … Continue reading Crafternoon: DIY Sugar Scrub
URL:https://devilslakendlibrary.com/event/monday-movie-matinee-the-little-mermaid/
LOCATION:Lake Region Public Library\, 423 7th Street Northeast\, Devils Lake\, ND\, 58301\, United States
CATEGORIES:Adult Programming,Children Programming,Senior Programming,Teen Programming
ATTACH;FMTTYPE=image/png:https://devilslakendlibrary.com/wp-content/uploads/2022/06/Monday-Movie-Matinee-1.png
END:VEVENT
BEGIN:VEVENT
DTSTART;TZID=America/North_Dakota/Center:20220609T150000
DTEND;TZID=America/North_Dakota/Center:20220609T190000
DTSTAMP:20260423T033615
CREATED:20220606T224246Z
LAST-MODIFIED:20220606T224246Z
UID:7657-1654786800-1654801200@devilslakendlibrary.com
SUMMARY:Crafternoons: Library Tote Bag
DESCRIPTION:Join the Lake Region Public Library on Thursday\, July 28 for another Crafternoon project! This time\, we'll be making DIY sugar scrubs to keep skin soft and exfoliated during the hot summer months. We will provide all the ingredients\, but if you have an essential oil you're partial to\, please feel free to bring that … Continue reading Crafternoon: DIY Sugar Scrub
URL:https://devilslakendlibrary.com/event/crafternoons-library-tote-bag/
LOCATION:Lake Region Public Library\, 423 7th Street Northeast\, Devils Lake\, ND\, 58301\, United States
CATEGORIES:Adult Programming,Children Programming,Senior Programming,Teen Programming
ATTACH;FMTTYPE=image/png:https://devilslakendlibrary.com/wp-content/uploads/2022/06/library-tote-bag.png
END:VEVENT
BEGIN:VEVENT
DTSTART;TZID=America/North_Dakota/Center:20220602T150000
DTEND;TZID=America/North_Dakota/Center:20220602T190000
DTSTAMP:20260423T033615
CREATED:20220509T195407Z
LAST-MODIFIED:20220509T195451Z
UID:7363-1654182000-1654196400@devilslakendlibrary.com
SUMMARY:Crafternoons: Library Tote Bag
DESCRIPTION:Join the Lake Region Public Library on Thursday\, July 28 for another Crafternoon project! This time\, we'll be making DIY sugar scrubs to keep skin soft and exfoliated during the hot summer months. We will provide all the ingredients\, but if you have an essential oil you're partial to\, please feel free to bring that … Continue reading Crafternoon: DIY Sugar Scrub
URL:https://devilslakendlibrary.com/event/crafternoons-library-tote/
LOCATION:Lake Region Public Library\, 423 7th Street Northeast\, Devils Lake\, ND\, 58301\, United States
CATEGORIES:Adult Programming,Children Programming,Senior Programming,Teen Programming
ATTACH;FMTTYPE=image/png:https://devilslakendlibrary.com/wp-content/uploads/2022/05/library-tote-bag.png
END:VEVENT
BEGIN:VEVENT
DTSTART;TZID=America/North_Dakota/Center:20220601T173000
DTEND;TZID=America/North_Dakota/Center:20220601T180000
DTSTAMP:20260423T033615
CREATED:20220506T162655Z
LAST-MODIFIED:20220506T162655Z
UID:7348-1654104600-1654106400@devilslakendlibrary.com
SUMMARY:LRPL Book Club: Be Frank With Me
DESCRIPTION:Join the Lake Region Public Library on Thursday\, July 28 for another Crafternoon project! This time\, we'll be making DIY sugar scrubs to keep skin soft and exfoliated during the hot summer months. We will provide all the ingredients\, but if you have an essential oil you're partial to\, please feel free to bring that … Continue reading Crafternoon: DIY Sugar Scrub
URL:https://devilslakendlibrary.com/event/lrpl-book-club-be-frank-with-me/
LOCATION:Lake Region Public Library\, 423 7th Street Northeast\, Devils Lake\, ND\, 58301\, United States
CATEGORIES:Adult Programming,Senior Programming,Teen Programming
ATTACH;FMTTYPE=image/jpeg:https://devilslakendlibrary.com/wp-content/uploads/2022/05/book-club.jpeg
END:VEVENT
BEGIN:VEVENT
DTSTART;TZID=America/North_Dakota/Center:20220511T173000
DTEND;TZID=America/North_Dakota/Center:20220511T183000
DTSTAMP:20260423T033615
CREATED:20220504T143728Z
LAST-MODIFIED:20220504T143729Z
UID:7313-1652290200-1652293800@devilslakendlibrary.com
SUMMARY:LRPL Book Club: The Book Woman of Troublesome Creek
DESCRIPTION:Join the Lake Region Public Library on Thursday\, July 28 for another Crafternoon project! This time\, we'll be making DIY sugar scrubs to keep skin soft and exfoliated during the hot summer months. We will provide all the ingredients\, but if you have an essential oil you're partial to\, please feel free to bring that … Continue reading Crafternoon: DIY Sugar Scrub
URL:https://devilslakendlibrary.com/event/lrpl-book-club-the-book-woman-of-troublesome-creek/
LOCATION:Lake Region Public Library\, 423 7th Street Northeast\, Devils Lake\, ND\, 58301\, United States
CATEGORIES:Adult Programming,Senior Programming
ATTACH;FMTTYPE=image/jpeg:https://devilslakendlibrary.com/wp-content/uploads/2022/05/book-club.jpeg
END:VEVENT
BEGIN:VEVENT
DTSTART;TZID=America/North_Dakota/Center:20220504T173000
DTEND;TZID=America/North_Dakota/Center:20220504T183000
DTSTAMP:20260423T033615
CREATED:20220504T143541Z
LAST-MODIFIED:20220504T143541Z
UID:7309-1651685400-1651689000@devilslakendlibrary.com
SUMMARY:LRPL Book Club: The Art of Racing in the Rain
DESCRIPTION:Join the Lake Region Public Library on Thursday\, July 28 for another Crafternoon project! This time\, we'll be making DIY sugar scrubs to keep skin soft and exfoliated during the hot summer months. We will provide all the ingredients\, but if you have an essential oil you're partial to\, please feel free to bring that … Continue reading Crafternoon: DIY Sugar Scrub
URL:https://devilslakendlibrary.com/event/lrpl-book-club-the-art-of-racing-in-the-rain/
LOCATION:Lake Region Public Library\, 423 7th Street Northeast\, Devils Lake\, ND\, 58301\, United States
CATEGORIES:Adult Programming,Senior Programming
ATTACH;FMTTYPE=image/jpeg:https://devilslakendlibrary.com/wp-content/uploads/2022/05/book-club.jpeg
END:VEVENT
BEGIN:VEVENT
DTSTART;TZID=America/North_Dakota/Center:20220504T130000
DTEND;TZID=America/North_Dakota/Center:20220504T180000
DTSTAMP:20260423T033615
CREATED:20220503T215432Z
LAST-MODIFIED:20220503T215442Z
UID:7305-1651669200-1651687200@devilslakendlibrary.com
SUMMARY:Crafternoons: Baby Yoda Bookmark
DESCRIPTION:Join the Lake Region Public Library on Thursday\, July 28 for another Crafternoon project! This time\, we'll be making DIY sugar scrubs to keep skin soft and exfoliated during the hot summer months. We will provide all the ingredients\, but if you have an essential oil you're partial to\, please feel free to bring that … Continue reading Crafternoon: DIY Sugar Scrub
URL:https://devilslakendlibrary.com/event/crafternoons-baby-yoda-bookmark/
LOCATION:Lake Region Public Library\, 423 7th Street Northeast\, Devils Lake\, ND\, 58301\, United States
CATEGORIES:Adult Programming,Children Programming,Senior Programming,Teen Programming
ATTACH;FMTTYPE=image/jpeg:https://devilslakendlibrary.com/wp-content/uploads/2022/05/IMG_3850-rotated.jpg
END:VEVENT
BEGIN:VEVENT
DTSTART;TZID=America/North_Dakota/Center:20220429T100000
DTEND;TZID=America/North_Dakota/Center:20220430T150000
DTSTAMP:20260423T033615
CREATED:20220328T180621Z
LAST-MODIFIED:20220328T180703Z
UID:7054-1651226400-1651330800@devilslakendlibrary.com
SUMMARY:LRPL Semi-Annual Book Sale
DESCRIPTION:Join the Lake Region Public Library on Thursday\, July 28 for another Crafternoon project! This time\, we'll be making DIY sugar scrubs to keep skin soft and exfoliated during the hot summer months. We will provide all the ingredients\, but if you have an essential oil you're partial to\, please feel free to bring that … Continue reading Crafternoon: DIY Sugar Scrub
URL:https://devilslakendlibrary.com/event/lrpl-semi-annual-book-sale/
LOCATION:Lake Region Public Library\, 423 7th Street Northeast\, Devils Lake\, ND\, 58301\, United States
CATEGORIES:Adult Programming,Children Programming,Informational Event,Senior Programming,Teen Programming
ATTACH;FMTTYPE=image/jpeg:https://devilslakendlibrary.com/wp-content/uploads/2022/03/April-2022-Book-Sale-1.jpg
END:VEVENT
BEGIN:VEVENT
DTSTART;TZID=America/North_Dakota/Center:20220407T190000
DTEND;TZID=America/North_Dakota/Center:20220407T210000
DTSTAMP:20260423T033615
CREATED:20220328T162923Z
LAST-MODIFIED:20220407T173023Z
UID:7011-1649358000-1649365200@devilslakendlibrary.com
SUMMARY:National Library Week: Movie Night
DESCRIPTION:Join the Lake Region Public Library on Thursday\, July 28 for another Crafternoon project! This time\, we'll be making DIY sugar scrubs to keep skin soft and exfoliated during the hot summer months. We will provide all the ingredients\, but if you have an essential oil you're partial to\, please feel free to bring that … Continue reading Crafternoon: DIY Sugar Scrub
URL:https://devilslakendlibrary.com/event/national-library-week-movie-night/
LOCATION:Lake Region Public Library\, 423 7th Street Northeast\, Devils Lake\, ND\, 58301\, United States
CATEGORIES:Adult Programming,Senior Programming
ATTACH;FMTTYPE=image/jpeg:https://devilslakendlibrary.com/wp-content/uploads/2022/03/Movie-night-at-lrpl-1.jpg
END:VEVENT
BEGIN:VEVENT
DTSTART;TZID=America/North_Dakota/Center:20220404T090000
DTEND;TZID=America/North_Dakota/Center:20220409T150000
DTSTAMP:20260423T033615
CREATED:20220328T165519Z
LAST-MODIFIED:20220328T165519Z
UID:7025-1649062800-1649516400@devilslakendlibrary.com
SUMMARY:National Library Week: How Many Books Contest
DESCRIPTION:Join the Lake Region Public Library on Thursday\, July 28 for another Crafternoon project! This time\, we'll be making DIY sugar scrubs to keep skin soft and exfoliated during the hot summer months. We will provide all the ingredients\, but if you have an essential oil you're partial to\, please feel free to bring that … Continue reading Crafternoon: DIY Sugar Scrub
URL:https://devilslakendlibrary.com/event/national-library-week-how-many-books-contest/
LOCATION:Lake Region Public Library\, 423 7th Street Northeast\, Devils Lake\, ND\, 58301\, United States
CATEGORIES:Adult Programming,Children Programming,Senior Programming,Teen Programming
ATTACH;FMTTYPE=image/png:https://devilslakendlibrary.com/wp-content/uploads/2022/03/lake-region-public-library-contest-how-many-books.png
END:VEVENT
BEGIN:VEVENT
DTSTART;TZID=America/North_Dakota/Center:20220404T090000
DTEND;TZID=America/North_Dakota/Center:20220409T150000
DTSTAMP:20260423T033615
CREATED:20220328T164910Z
LAST-MODIFIED:20220328T164910Z
UID:7018-1649062800-1649516400@devilslakendlibrary.com
SUMMARY:National Library Week: Book Giveaway!
DESCRIPTION:Join the Lake Region Public Library on Thursday\, July 28 for another Crafternoon project! This time\, we'll be making DIY sugar scrubs to keep skin soft and exfoliated during the hot summer months. We will provide all the ingredients\, but if you have an essential oil you're partial to\, please feel free to bring that … Continue reading Crafternoon: DIY Sugar Scrub
URL:https://devilslakendlibrary.com/event/national-library-week-book-giveaway/
LOCATION:Lake Region Public Library\, 423 7th Street Northeast\, Devils Lake\, ND\, 58301\, United States
CATEGORIES:Adult Programming,Children Programming,Senior Programming,Teen Programming
ATTACH;FMTTYPE=image/png:https://devilslakendlibrary.com/wp-content/uploads/2022/03/lake-region-public-library-book-giveaway.png
END:VEVENT
BEGIN:VEVENT
DTSTART;TZID=America/North_Dakota/Center:20220401T080000
DTEND;TZID=America/North_Dakota/Center:20220430T170000
DTSTAMP:20260423T033615
CREATED:20220406T170331Z
LAST-MODIFIED:20220406T170331Z
UID:7103-1648800000-1651338000@devilslakendlibrary.com
SUMMARY:Blackout Poetry
DESCRIPTION:Join the Lake Region Public Library on Thursday\, July 28 for another Crafternoon project! This time\, we'll be making DIY sugar scrubs to keep skin soft and exfoliated during the hot summer months. We will provide all the ingredients\, but if you have an essential oil you're partial to\, please feel free to bring that … Continue reading Crafternoon: DIY Sugar Scrub
URL:https://devilslakendlibrary.com/event/blackout-poetry/
LOCATION:Lake Region Public Library\, 423 7th Street Northeast\, Devils Lake\, ND\, 58301\, United States
CATEGORIES:Adult Programming,Senior Programming,Teen Programming
END:VEVENT
END:VCALENDAR