BEGIN:VCALENDAR
VERSION:2.0
PRODID:-//Lake Region Public Library - ECPv6.15.20//NONSGML v1.0//EN
CALSCALE:GREGORIAN
METHOD:PUBLISH
X-WR-CALNAME:Lake Region Public Library
X-ORIGINAL-URL:https://devilslakendlibrary.com
X-WR-CALDESC:Events for Lake Region Public Library
REFRESH-INTERVAL;VALUE=DURATION:PT1H
X-Robots-Tag:noindex
X-PUBLISHED-TTL:PT1H
BEGIN:VTIMEZONE
TZID:America/North_Dakota/Center
BEGIN:DAYLIGHT
TZOFFSETFROM:-0600
TZOFFSETTO:-0500
TZNAME:CDT
DTSTART:20210314T080000
END:DAYLIGHT
BEGIN:STANDARD
TZOFFSETFROM:-0500
TZOFFSETTO:-0600
TZNAME:CST
DTSTART:20211107T070000
END:STANDARD
BEGIN:DAYLIGHT
TZOFFSETFROM:-0600
TZOFFSETTO:-0500
TZNAME:CDT
DTSTART:20220313T080000
END:DAYLIGHT
BEGIN:STANDARD
TZOFFSETFROM:-0500
TZOFFSETTO:-0600
TZNAME:CST
DTSTART:20221106T070000
END:STANDARD
BEGIN:DAYLIGHT
TZOFFSETFROM:-0600
TZOFFSETTO:-0500
TZNAME:CDT
DTSTART:20230312T080000
END:DAYLIGHT
BEGIN:STANDARD
TZOFFSETFROM:-0500
TZOFFSETTO:-0600
TZNAME:CST
DTSTART:20231105T070000
END:STANDARD
END:VTIMEZONE
BEGIN:VEVENT
DTSTART;TZID=America/North_Dakota/Center:20220429T100000
DTEND;TZID=America/North_Dakota/Center:20220430T150000
DTSTAMP:20260419T090240
CREATED:20220328T180621Z
LAST-MODIFIED:20220328T180703Z
UID:7054-1651226400-1651330800@devilslakendlibrary.com
SUMMARY:LRPL Semi-Annual Book Sale
DESCRIPTION:April is National Poetry Month\, and we want to celebrate! Blackout poetry can mean a lot of different things\, but at its core it is blacking out words on a page you do NOT want to use in your poem. What you're left with is the work of a poet! Stop by the nonfiction area … Continue reading Blackout Poetry
URL:https://devilslakendlibrary.com/event/lrpl-semi-annual-book-sale/
LOCATION:Lake Region Public Library\, 423 7th Street Northeast\, Devils Lake\, ND\, 58301\, United States
CATEGORIES:Adult Programming,Children Programming,Informational Event,Senior Programming,Teen Programming
ATTACH;FMTTYPE=image/jpeg:https://devilslakendlibrary.com/wp-content/uploads/2022/03/April-2022-Book-Sale-1.jpg
END:VEVENT
BEGIN:VEVENT
DTSTART;TZID=America/North_Dakota/Center:20220407T190000
DTEND;TZID=America/North_Dakota/Center:20220407T210000
DTSTAMP:20260419T090240
CREATED:20220328T162923Z
LAST-MODIFIED:20220407T173023Z
UID:7011-1649358000-1649365200@devilslakendlibrary.com
SUMMARY:National Library Week: Movie Night
DESCRIPTION:April is National Poetry Month\, and we want to celebrate! Blackout poetry can mean a lot of different things\, but at its core it is blacking out words on a page you do NOT want to use in your poem. What you're left with is the work of a poet! Stop by the nonfiction area … Continue reading Blackout Poetry
URL:https://devilslakendlibrary.com/event/national-library-week-movie-night/
LOCATION:Lake Region Public Library\, 423 7th Street Northeast\, Devils Lake\, ND\, 58301\, United States
CATEGORIES:Adult Programming,Senior Programming
ATTACH;FMTTYPE=image/jpeg:https://devilslakendlibrary.com/wp-content/uploads/2022/03/Movie-night-at-lrpl-1.jpg
END:VEVENT
BEGIN:VEVENT
DTSTART;TZID=America/North_Dakota/Center:20220404T090000
DTEND;TZID=America/North_Dakota/Center:20220409T150000
DTSTAMP:20260419T090240
CREATED:20220328T165519Z
LAST-MODIFIED:20220328T165519Z
UID:7025-1649062800-1649516400@devilslakendlibrary.com
SUMMARY:National Library Week: How Many Books Contest
DESCRIPTION:April is National Poetry Month\, and we want to celebrate! Blackout poetry can mean a lot of different things\, but at its core it is blacking out words on a page you do NOT want to use in your poem. What you're left with is the work of a poet! Stop by the nonfiction area … Continue reading Blackout Poetry
URL:https://devilslakendlibrary.com/event/national-library-week-how-many-books-contest/
LOCATION:Lake Region Public Library\, 423 7th Street Northeast\, Devils Lake\, ND\, 58301\, United States
CATEGORIES:Adult Programming,Children Programming,Senior Programming,Teen Programming
ATTACH;FMTTYPE=image/png:https://devilslakendlibrary.com/wp-content/uploads/2022/03/lake-region-public-library-contest-how-many-books.png
END:VEVENT
BEGIN:VEVENT
DTSTART;TZID=America/North_Dakota/Center:20220404T090000
DTEND;TZID=America/North_Dakota/Center:20220409T150000
DTSTAMP:20260419T090240
CREATED:20220328T164910Z
LAST-MODIFIED:20220328T164910Z
UID:7018-1649062800-1649516400@devilslakendlibrary.com
SUMMARY:National Library Week: Book Giveaway!
DESCRIPTION:April is National Poetry Month\, and we want to celebrate! Blackout poetry can mean a lot of different things\, but at its core it is blacking out words on a page you do NOT want to use in your poem. What you're left with is the work of a poet! Stop by the nonfiction area … Continue reading Blackout Poetry
URL:https://devilslakendlibrary.com/event/national-library-week-book-giveaway/
LOCATION:Lake Region Public Library\, 423 7th Street Northeast\, Devils Lake\, ND\, 58301\, United States
CATEGORIES:Adult Programming,Children Programming,Senior Programming,Teen Programming
ATTACH;FMTTYPE=image/png:https://devilslakendlibrary.com/wp-content/uploads/2022/03/lake-region-public-library-book-giveaway.png
END:VEVENT
BEGIN:VEVENT
DTSTART;TZID=America/North_Dakota/Center:20220401T080000
DTEND;TZID=America/North_Dakota/Center:20220430T170000
DTSTAMP:20260419T090240
CREATED:20220406T170331Z
LAST-MODIFIED:20220406T170331Z
UID:7103-1648800000-1651338000@devilslakendlibrary.com
SUMMARY:Blackout Poetry
DESCRIPTION:April is National Poetry Month\, and we want to celebrate! Blackout poetry can mean a lot of different things\, but at its core it is blacking out words on a page you do NOT want to use in your poem. What you're left with is the work of a poet! Stop by the nonfiction area … Continue reading Blackout Poetry
URL:https://devilslakendlibrary.com/event/blackout-poetry/
LOCATION:Lake Region Public Library\, 423 7th Street Northeast\, Devils Lake\, ND\, 58301\, United States
CATEGORIES:Adult Programming,Senior Programming,Teen Programming
END:VEVENT
END:VCALENDAR