BEGIN:VCALENDAR
VERSION:2.0
PRODID:-//Lake Region Public Library - ECPv6.15.20//NONSGML v1.0//EN
CALSCALE:GREGORIAN
METHOD:PUBLISH
X-WR-CALNAME:Lake Region Public Library
X-ORIGINAL-URL:https://devilslakendlibrary.com
X-WR-CALDESC:Events for Lake Region Public Library
REFRESH-INTERVAL;VALUE=DURATION:PT1H
X-Robots-Tag:noindex
X-PUBLISHED-TTL:PT1H
BEGIN:VTIMEZONE
TZID:America/North_Dakota/Center
BEGIN:DAYLIGHT
TZOFFSETFROM:-0600
TZOFFSETTO:-0500
TZNAME:CDT
DTSTART:20210314T080000
END:DAYLIGHT
BEGIN:STANDARD
TZOFFSETFROM:-0500
TZOFFSETTO:-0600
TZNAME:CST
DTSTART:20211107T070000
END:STANDARD
BEGIN:DAYLIGHT
TZOFFSETFROM:-0600
TZOFFSETTO:-0500
TZNAME:CDT
DTSTART:20220313T080000
END:DAYLIGHT
BEGIN:STANDARD
TZOFFSETFROM:-0500
TZOFFSETTO:-0600
TZNAME:CST
DTSTART:20221106T070000
END:STANDARD
BEGIN:DAYLIGHT
TZOFFSETFROM:-0600
TZOFFSETTO:-0500
TZNAME:CDT
DTSTART:20230312T080000
END:DAYLIGHT
BEGIN:STANDARD
TZOFFSETFROM:-0500
TZOFFSETTO:-0600
TZNAME:CST
DTSTART:20231105T070000
END:STANDARD
END:VTIMEZONE
BEGIN:VEVENT
DTSTART;TZID=America/North_Dakota/Center:20220226T110000
DTEND;TZID=America/North_Dakota/Center:20220226T114500
DTSTAMP:20260421T090434
CREATED:20220214T172509Z
LAST-MODIFIED:20220214T172631Z
UID:6751-1645873200-1645875900@devilslakendlibrary.com
SUMMARY:Special Saturday Story Time
DESCRIPTION:Join us Wednesday mornings at 9:30 am and Thursday mornings at 11:00 am for preschool story time! Kiddos and parents are always welcome to attend.
URL:https://devilslakendlibrary.com/event/special-saturday-story-time/
LOCATION:ND
CATEGORIES:Children Programming
ATTACH;FMTTYPE=image/jpeg:https://devilslakendlibrary.com/wp-content/uploads/2022/02/February-Story-Time.jpeg
END:VEVENT
BEGIN:VEVENT
DTSTART;TZID=America/North_Dakota/Center:20220223T093000
DTEND;TZID=America/North_Dakota/Center:20220223T101500
DTSTAMP:20260421T090434
CREATED:20220214T172410Z
LAST-MODIFIED:20220214T172656Z
UID:6749-1645608600-1645611300@devilslakendlibrary.com
SUMMARY:February Story Times
DESCRIPTION:Join us Wednesday mornings at 9:30 am and Thursday mornings at 11:00 am for preschool story time! Kiddos and parents are always welcome to attend.
URL:https://devilslakendlibrary.com/event/february-story-times-3/
LOCATION:ND
CATEGORIES:Children Programming
ATTACH;FMTTYPE=image/jpeg:https://devilslakendlibrary.com/wp-content/uploads/2022/02/February-Story-Time.jpeg
END:VEVENT
BEGIN:VEVENT
DTSTART;TZID=America/North_Dakota/Center:20220201T080000
DTEND;TZID=America/North_Dakota/Center:20220228T170000
DTSTAMP:20260421T090434
CREATED:20220214T160157Z
LAST-MODIFIED:20220214T172558Z
UID:6694-1643702400-1646067600@devilslakendlibrary.com
SUMMARY:PBS Kids Writers' Contest 2022
DESCRIPTION:Join us Wednesday mornings at 9:30 am and Thursday mornings at 11:00 am for preschool story time! Kiddos and parents are always welcome to attend.
URL:https://devilslakendlibrary.com/event/pbs-kids-writers-contest-2022/
LOCATION:ND
CATEGORIES:Children Programming
ATTACH;FMTTYPE=image/png:https://devilslakendlibrary.com/wp-content/uploads/2022/02/6b9baabdc9_writers-contest-banner2.png
END:VEVENT
END:VCALENDAR